{"text_format":"3","workbook":"xlsx","n_sheets":10,"sheets":["Informații generale","1. Resurse umane","2. Deplasări","3. Echipamente și bunuri","4. Sediu local","5. Alte costuri, servicii","Bugetul proiectului","Sursele de finanțare","Verificare limitări","Liste"],"not_rendered":{"external_links":1,"defined_names":29,"comments":1},"read":"whole","date_system":"1900"}

{"sheet":"Informații generale","index":0,"n_rows":10,"n_cols":3,"rows_kept":10}
[]
[null,"Denumirea proiectului:\n<așa cum apare în cererea de finanțare>"]
[]
[null,"Domeniul:","SOCIAL"]
[]
[null,"Durata proiectului:            \n<număr de luni>"]
[]
[null,"Cod fiscal solicitant"]
[]
[null,"Denumirea solicitantului:\n<așa cum apare în cererea de finanțare>"]

{"sheet":"1. Resurse umane","index":1,"n_rows":47,"n_cols":10,"rows_kept":47,"merged":[[7,1,7,2],[8,1,8,2],[9,1,9,2],[10,1,10,2],[11,1,11,2],[12,1,12,2],[13,1,13,2],[14,1,14,2],[15,1,15,2],[16,1,16,2],[17,1,17,2],[18,1,18,2],[19,1,19,2],[20,1,20,2],[21,1,21,2],[22,1,22,2],[23,1,23,2],[24,1,24,2],[25,1,25,2],[26,1,26,2],[27,1,27,2],[28,1,28,2],[29,1,29,2],[30,1,30,2],[31,1,31,2],[32,1,32,2],[33,1,33,2],[34,1,34,2],[35,1,35,2],[36,1,36,2],[37,1,37,2],[38,1,38,2],[39,1,39,2],[40,1,40,2],[41,1,41,2],[42,1,42,2],[43,1,43,2],[44,1,44,2],[45,1,45,2],[46,1,46,2]]}
[]
[null,"1. Resurse umane"]
[]
[null,"Denumirea proiectului:",{"$f":"'Informații generale'!$C$2","v":0},{"$nulls":5},"TOTAL"]
[]
[null,"Denumirea solicitantului:",{"$f":"'Informații generale'!$C$10","v":0},{"$nulls":5},{"$f":"IF(SUBTOTAL(9,I$10:I$47)=0,0,SUBTOTAL(9,I$10:I$47))","v":0}]
[]
[null,"Linia de buget\n<selectați din listă>",null,"                      Vezi comentariul\n\nPoziția în cadrul proiectului\n<completați>","Unitate de masură\n<selectați din listă>","Vezi comentariul\n\nNorma de lucru\n<completați>","Număr de unități\n<completați>","Cost unitar\n<completați>","Cost pe proiect\n<se calculează automat>"]
[null,1,null,2,3,4,5,6,"7=4x5x6"]
[{"$nulls":4},{"$f":"IF($B10=Liste!$A$5,Liste!$B$4,IF($B10=Liste!$A$6,Liste!$B$5,\"\"))","v":""},{"$f":"IF(OR($B10=Liste!$A$5,$B10=Liste!$A$6),\"- - - \",IF(OR(E10=\"Oră\",E10=\"Zi\"),1,\"\"))","v":""},null,null,{"$f":"IFERROR(IF(OR($B10=Liste!$A$5,$B10=Liste!$A$6),IF($G10*$H10=0,0,$G10*$H10),IF($F10*$G10*$H10=0,0,$F10*$G10*$H10)),\"\")","v":""},{"$f":"IF(AND($E10=Liste!$B$5,$H10>20),\"Valoarea diurnei nu poate depăși 20 lei/persoană/zi!\",IF(AND($E10=Liste!B4,$H10>230),\"Tariful unei nopți de cazare nu poate depăși 230 lei!\",\"\"))","v":""}]
[{"$nulls":4},{"$f":"IF($B11=Liste!$A$5,Liste!$B$4,IF($B11=Liste!$A$6,Liste!$B$5,\"\"))","v":""},{"$f":"IF(OR($B11=Liste!$A$5,$B11=Liste!$A$6),\"- - - \",IF(OR(E11=\"Oră\",E11=\"Zi\"),1,\"\"))","v":""},null,null,{"$f":"IFERROR(IF(OR($B11=Liste!$A$5,$B11=Liste!$A$6),IF($G11*$H11=0,0,$G11*$H11),IF($F11*$G11*$H11=0,0,$F11*$G11*$H11)),\"\")","v":""},{"$f":"IF(AND($E11=Liste!$B$5,$H11>20),\"Valoarea diurnei nu poate depăși 20 lei/persoană/zi!\",IF(AND($E11=Liste!$B$4,$H11>230),\"Tariful unei nopți de cazare nu poate depăși 230 lei!\",\"\"))","v":""}]
[{"$nulls":4},{"$f":"IF($B12=Liste!$A$5,Liste!$B$4,IF($B12=Liste!$A$6,Liste!$B$5,\"\"))","v":""},{"$f":"IF(OR($B12=Liste!$A$5,$B12=Liste!$A$6),\"- - - \",IF(OR(E12=\"Oră\",E12=\"Zi\"),1,\"\"))","v":""},null,null,{"$f":"IFERROR(IF(OR($B12=Liste!$A$5,$B12=Liste!$A$6),IF($G12*$H12=0,0,$G12*$H12),IF($F12*$G12*$H12=0,0,$F12*$G12*$H12)),\"\")","v":""},{"$f":"IF(AND($E12=Liste!$B$5,$H12>20),\"Valoarea diurnei nu poate depăși 20 lei/persoană/zi!\",IF(AND($E12=Liste!$B$4,$H12>230),\"Tariful unei nopți de cazare nu poate depăși 230 lei!\",\"\"))","v":""}]
[{"$nulls":4},{"$f":"IF($B13=Liste!$A$5,Liste!$B$4,IF($B13=Liste!$A$6,Liste!$B$5,\"\"))","v":""},{"$f":"IF(OR($B13=Liste!$A$5,$B13=Liste!$A$6),\"- - - \",IF(OR(E13=\"Oră\",E13=\"Zi\"),1,\"\"))","v":""},null,null,{"$f":"IFERROR(IF(OR($B13=Liste!$A$5,$B13=Liste!$A$6),IF($G13*$H13=0,0,$G13*$H13),IF($F13*$G13*$H13=0,0,$F13*$G13*$H13)),\"\")","v":""},{"$f":"IF(AND($E13=Liste!$B$5,$H13>20),\"Valoarea diurnei nu poate depăși 20 lei/persoană/zi!\",IF(AND($E13=Liste!$B$4,$H13>230),\"Tariful unei nopți de cazare nu poate depăși 230 lei!\",\"\"))","v":""}]
[{"$nulls":4},{"$f":"IF($B14=Liste!$A$5,Liste!$B$4,IF($B14=Liste!$A$6,Liste!$B$5,\"\"))","v":""},{"$f":"IF(OR($B14=Liste!$A$5,$B14=Liste!$A$6),\"- - - \",IF(OR(E14=\"Oră\",E14=\"Zi\"),1,\"\"))","v":""},null,null,{"$f":"IFERROR(IF(OR($B14=Liste!$A$5,$B14=Liste!$A$6),IF($G14*$H14=0,0,$G14*$H14),IF($F14*$G14*$H14=0,0,$F14*$G14*$H14)),\"\")","v":""},{"$f":"IF(AND($E14=Liste!$B$5,$H14>20),\"Valoarea diurnei nu poate depăși 20 lei/persoană/zi!\",IF(AND($E14=Liste!$B$4,$H14>230),\"Tariful unei nopți de cazare nu poate depăși 230 lei!\",\"\"))","v":""}]
[{"$nulls":4},{"$f":"IF($B15=Liste!$A$5,Liste!$B$4,IF($B15=Liste!$A$6,Liste!$B$5,\"\"))","v":""},{"$f":"IF(OR($B15=Liste!$A$5,$B15=Liste!$A$6),\"- - - \",IF(OR(E15=\"Oră\",E15=\"Zi\"),1,\"\"))","v":""},null,null,{"$f":"IFERROR(IF(OR($B15=Liste!$A$5,$B15=Liste!$A$6),IF($G15*$H15=0,0,$G15*$H15),IF($F15*$G15*$H15=0,0,$F15*$G15*$H15)),\"\")","v":""},{"$f":"IF(AND($E15=Liste!$B$5,$H15>20),\"Valoarea diurnei nu poate depăși 20 lei/persoană/zi!\",IF(AND($E15=Liste!$B$4,$H15>230),\"Tariful unei nopți de cazare nu poate depăși 230 lei!\",\"\"))","v":""}]
[{"$nulls":4},{"$f":"IF($B16=Liste!$A$5,Liste!$B$4,IF($B16=Liste!$A$6,Liste!$B$5,\"\"))","v":""},{"$f":"IF(OR($B16=Liste!$A$5,$B16=Liste!$A$6),\"- - - \",IF(OR(E16=\"Oră\",E16=\"Zi\"),1,\"\"))","v":""},null,null,{"$f":"IFERROR(IF(OR($B16=Liste!$A$5,$B16=Liste!$A$6),IF($G16*$H16=0,0,$G16*$H16),IF($F16*$G16*$H16=0,0,$F16*$G16*$H16)),\"\")","v":""},{"$f":"IF(AND($E16=Liste!$B$5,$H16>20),\"Valoarea diurnei nu poate depăși 20 lei/persoană/zi!\",IF(AND($E16=Liste!$B$4,$H16>230),\"Tariful unei nopți de cazare nu poate depăși 230 lei!\",\"\"))","v":""}]
[{"$nulls":4},{"$f":"IF($B17=Liste!$A$5,Liste!$B$4,IF($B17=Liste!$A$6,Liste!$B$5,\"\"))","v":""},{"$f":"IF(OR($B17=Liste!$A$5,$B17=Liste!$A$6),\"- - - \",IF(OR(E17=\"Oră\",E17=\"Zi\"),1,\"\"))","v":""},null,null,{"$f":"IFERROR(IF(OR($B17=Liste!$A$5,$B17=Liste!$A$6),IF($G17*$H17=0,0,$G17*$H17),IF($F17*$G17*$H17=0,0,$F17*$G17*$H17)),\"\")","v":""},{"$f":"IF(AND($E17=Liste!$B$5,$H17>20),\"Valoarea diurnei nu poate depăși 20 lei/persoană/zi!\",IF(AND($E17=Liste!$B$4,$H17>230),\"Tariful unei nopți de cazare nu poate depăși 230 lei!\",\"\"))","v":""}]
[{"$nulls":4},{"$f":"IF($B18=Liste!$A$5,Liste!$B$4,IF($B18=Liste!$A$6,Liste!$B$5,\"\"))","v":""},{"$f":"IF(OR($B18=Liste!$A$5,$B18=Liste!$A$6),\"- - - \",IF(OR(E18=\"Oră\",E18=\"Zi\"),1,\"\"))","v":""},null,null,{"$f":"IFERROR(IF(OR($B18=Liste!$A$5,$B18=Liste!$A$6),IF($G18*$H18=0,0,$G18*$H18),IF($F18*$G18*$H18=0,0,$F18*$G18*$H18)),\"\")","v":""},{"$f":"IF(AND($E18=Liste!$B$5,$H18>20),\"Valoarea diurnei nu poate depăși 20 lei/persoană/zi!\",IF(AND($E18=Liste!$B$4,$H18>230),\"Tariful unei nopți de cazare nu poate depăși 230 lei!\",\"\"))","v":""}]
[{"$nulls":4},{"$f":"IF($B19=Liste!$A$5,Liste!$B$4,IF($B19=Liste!$A$6,Liste!$B$5,\"\"))","v":""},{"$f":"IF(OR($B19=Liste!$A$5,$B19=Liste!$A$6),\"- - - \",IF(OR(E19=\"Oră\",E19=\"Zi\"),1,\"\"))","v":""},null,null,{"$f":"IFERROR(IF(OR($B19=Liste!$A$5,$B19=Liste!$A$6),IF($G19*$H19=0,0,$G19*$H19),IF($F19*$G19*$H19=0,0,$F19*$G19*$H19)),\"\")","v":""},{"$f":"IF(AND($E19=Liste!$B$5,$H19>20),\"Valoarea diurnei nu poate depăși 20 lei/persoană/zi!\",IF(AND($E19=Liste!$B$4,$H19>230),\"Tariful unei nopți de cazare nu poate depăși 230 lei!\",\"\"))","v":""}]
[{"$nulls":4},{"$f":"IF($B20=Liste!$A$5,Liste!$B$4,IF($B20=Liste!$A$6,Liste!$B$5,\"\"))","v":""},{"$f":"IF(OR($B20=Liste!$A$5,$B20=Liste!$A$6),\"- - - \",IF(OR(E20=\"Oră\",E20=\"Zi\"),1,\"\"))","v":""},null,null,{"$f":"IFERROR(IF(OR($B20=Liste!$A$5,$B20=Liste!$A$6),IF($G20*$H20=0,0,$G20*$H20),IF($F20*$G20*$H20=0,0,$F20*$G20*$H20)),\"\")","v":""},{"$f":"IF(AND($E20=Liste!$B$5,$H20>20),\"Valoarea diurnei nu poate depăși 20 lei/persoană/zi!\",IF(AND($E20=Liste!$B$4,$H20>230),\"Tariful unei nopți de cazare nu poate depăși 230 lei!\",\"\"))","v":""}]
[{"$nulls":4},{"$f":"IF($B21=Liste!$A$5,Liste!$B$4,IF($B21=Liste!$A$6,Liste!$B$5,\"\"))","v":""},{"$f":"IF(OR($B21=Liste!$A$5,$B21=Liste!$A$6),\"- - - \",IF(OR(E21=\"Oră\",E21=\"Zi\"),1,\"\"))","v":""},null,null,{"$f":"IFERROR(IF(OR($B21=Liste!$A$5,$B21=Liste!$A$6),IF($G21*$H21=0,0,$G21*$H21),IF($F21*$G21*$H21=0,0,$F21*$G21*$H21)),\"\")","v":""},{"$f":"IF(AND($E21=Liste!$B$5,$H21>20),\"Valoarea diurnei nu poate depăși 20 lei/persoană/zi!\",IF(AND($E21=Liste!$B$4,$H21>230),\"Tariful unei nopți de cazare nu poate depăși 230 lei!\",\"\"))","v":""}]
[{"$nulls":4},{"$f":"IF($B22=Liste!$A$5,Liste!$B$4,IF($B22=Liste!$A$6,Liste!$B$5,\"\"))","v":""},{"$f":"IF(OR($B22=Liste!$A$5,$B22=Liste!$A$6),\"- - - \",IF(OR(E22=\"Oră\",E22=\"Zi\"),1,\"\"))","v":""},null,null,{"$f":"IFERROR(IF(OR($B22=Liste!$A$5,$B22=Liste!$A$6),IF($G22*$H22=0,0,$G22*$H22),IF($F22*$G22*$H22=0,0,$F22*$G22*$H22)),\"\")","v":""},{"$f":"IF(AND($E22=Liste!$B$5,$H22>20),\"Valoarea diurnei nu poate depăși 20 lei/persoană/zi!\",IF(AND($E22=Liste!$B$4,$H22>230),\"Tariful unei nopți de cazare nu poate depăși 230 lei!\",\"\"))","v":""}]
[{"$nulls":4},{"$f":"IF($B23=Liste!$A$5,Liste!$B$4,IF($B23=Liste!$A$6,Liste!$B$5,\"\"))","v":""},{"$f":"IF(OR($B23=Liste!$A$5,$B23=Liste!$A$6),\"- - - \",IF(OR(E23=\"Oră\",E23=\"Zi\"),1,\"\"))","v":""},null,null,{"$f":"IFERROR(IF(OR($B23=Liste!$A$5,$B23=Liste!$A$6),IF($G23*$H23=0,0,$G23*$H23),IF($F23*$G23*$H23=0,0,$F23*$G23*$H23)),\"\")","v":""},{"$f":"IF(AND($E23=Liste!$B$5,$H23>20),\"Valoarea diurnei nu poate depăși 20 lei/persoană/zi!\",IF(AND($E23=Liste!$B$4,$H23>230),\"Tariful unei nopți de cazare nu poate depăși 230 lei!\",\"\"))","v":""}]
[{"$nulls":4},{"$f":"IF($B24=Liste!$A$5,Liste!$B$4,IF($B24=Liste!$A$6,Liste!$B$5,\"\"))","v":""},{"$f":"IF(OR($B24=Liste!$A$5,$B24=Liste!$A$6),\"- - - \",IF(OR(E24=\"Oră\",E24=\"Zi\"),1,\"\"))","v":""},null,null,{"$f":"IFERROR(IF(OR($B24=Liste!$A$5,$B24=Liste!$A$6),IF($G24*$H24=0,0,$G24*$H24),IF($F24*$G24*$H24=0,0,$F24*$G24*$H24)),\"\")","v":""},{"$f":"IF(AND($E24=Liste!$B$5,$H24>20),\"Valoarea diurnei nu poate depăși 20 lei/persoană/zi!\",IF(AND($E24=Liste!$B$4,$H24>230),\"Tariful unei nopți de cazare nu poate depăși 230 lei!\",\"\"))","v":""}]
[{"$nulls":4},{"$f":"IF($B25=Liste!$A$5,Liste!$B$4,IF($B25=Liste!$A$6,Liste!$B$5,\"\"))","v":""},{"$f":"IF(OR($B25=Liste!$A$5,$B25=Liste!$A$6),\"- - - \",IF(OR(E25=\"Oră\",E25=\"Zi\"),1,\"\"))","v":""},null,null,{"$f":"IFERROR(IF(OR($B25=Liste!$A$5,$B25=Liste!$A$6),IF($G25*$H25=0,0,$G25*$H25),IF($F25*$G25*$H25=0,0,$F25*$G25*$H25)),\"\")","v":""},{"$f":"IF(AND($E25=Liste!$B$5,$H25>20),\"Valoarea diurnei nu poate depăși 20 lei/persoană/zi!\",IF(AND($E25=Liste!$B$4,$H25>230),\"Tariful unei nopți de cazare nu poate depăși 230 lei!\",\"\"))","v":""}]
[{"$nulls":4},{"$f":"IF($B26=Liste!$A$5,Liste!$B$4,IF($B26=Liste!$A$6,Liste!$B$5,\"\"))","v":""},{"$f":"IF(OR($B26=Liste!$A$5,$B26=Liste!$A$6),\"- - - \",IF(OR(E26=\"Oră\",E26=\"Zi\"),1,\"\"))","v":""},null,null,{"$f":"IFERROR(IF(OR($B26=Liste!$A$5,$B26=Liste!$A$6),IF($G26*$H26=0,0,$G26*$H26),IF($F26*$G26*$H26=0,0,$F26*$G26*$H26)),\"\")","v":""},{"$f":"IF(AND($E26=Liste!$B$5,$H26>20),\"Valoarea diurnei nu poate depăși 20 lei/persoană/zi!\",IF(AND($E26=Liste!$B$4,$H26>230),\"Tariful unei nopți de cazare nu poate depăși 230 lei!\",\"\"))","v":""}]
[{"$nulls":4},{"$f":"IF($B27=Liste!$A$5,Liste!$B$4,IF($B27=Liste!$A$6,Liste!$B$5,\"\"))","v":""},{"$f":"IF(OR($B27=Liste!$A$5,$B27=Liste!$A$6),\"- - - \",IF(OR(E27=\"Oră\",E27=\"Zi\"),1,\"\"))","v":""},null,null,{"$f":"IFERROR(IF(OR($B27=Liste!$A$5,$B27=Liste!$A$6),IF($G27*$H27=0,0,$G27*$H27),IF($F27*$G27*$H27=0,0,$F27*$G27*$H27)),\"\")","v":""},{"$f":"IF(AND($E27=Liste!$B$5,$H27>20),\"Valoarea diurnei nu poate depăși 20 lei/persoană/zi!\",IF(AND($E27=Liste!$B$4,$H27>230),\"Tariful unei nopți de cazare nu poate depăși 230 lei!\",\"\"))","v":""}]
[{"$nulls":4},{"$f":"IF($B28=Liste!$A$5,Liste!$B$4,IF($B28=Liste!$A$6,Liste!$B$5,\"\"))","v":""},{"$f":"IF(OR($B28=Liste!$A$5,$B28=Liste!$A$6),\"- - - \",IF(OR(E28=\"Oră\",E28=\"Zi\"),1,\"\"))","v":""},null,null,{"$f":"IFERROR(IF(OR($B28=Liste!$A$5,$B28=Liste!$A$6),IF($G28*$H28=0,0,$G28*$H28),IF($F28*$G28*$H28=0,0,$F28*$G28*$H28)),\"\")","v":""},{"$f":"IF(AND($E28=Liste!$B$5,$H28>20),\"Valoarea diurnei nu poate depăși 20 lei/persoană/zi!\",IF(AND($E28=Liste!$B$4,$H28>230),\"Tariful unei nopți de cazare nu poate depăși 230 lei!\",\"\"))","v":""}]
[{"$nulls":4},{"$f":"IF($B29=Liste!$A$5,Liste!$B$4,IF($B29=Liste!$A$6,Liste!$B$5,\"\"))","v":""},{"$f":"IF(OR($B29=Liste!$A$5,$B29=Liste!$A$6),\"- - - \",IF(OR(E29=\"Oră\",E29=\"Zi\"),1,\"\"))","v":""},null,null,{"$f":"IFERROR(IF(OR($B29=Liste!$A$5,$B29=Liste!$A$6),IF($G29*$H29=0,0,$G29*$H29),IF($F29*$G29*$H29=0,0,$F29*$G29*$H29)),\"\")","v":""},{"$f":"IF(AND($E29=Liste!$B$5,$H29>20),\"Valoarea diurnei nu poate depăși 20 lei/persoană/zi!\",IF(AND($E29=Liste!$B$4,$H29>230),\"Tariful unei nopți de cazare nu poate depăși 230 lei!\",\"\"))","v":""}]
[{"$nulls":4},{"$f":"IF($B30=Liste!$A$5,Liste!$B$4,IF($B30=Liste!$A$6,Liste!$B$5,\"\"))","v":""},{"$f":"IF(OR($B30=Liste!$A$5,$B30=Liste!$A$6),\"- - - \",IF(OR(E30=\"Oră\",E30=\"Zi\"),1,\"\"))","v":""},null,null,{"$f":"IFERROR(IF(OR($B30=Liste!$A$5,$B30=Liste!$A$6),IF($G30*$H30=0,0,$G30*$H30),IF($F30*$G30*$H30=0,0,$F30*$G30*$H30)),\"\")","v":""},{"$f":"IF(AND($E30=Liste!$B$5,$H30>20),\"Valoarea diurnei nu poate depăși 20 lei/persoană/zi!\",IF(AND($E30=Liste!$B$4,$H30>230),\"Tariful unei nopți de cazare nu poate depăși 230 lei!\",\"\"))","v":""}]
[{"$nulls":4},{"$f":"IF($B31=Liste!$A$5,Liste!$B$4,IF($B31=Liste!$A$6,Liste!$B$5,\"\"))","v":""},{"$f":"IF(OR($B31=Liste!$A$5,$B31=Liste!$A$6),\"- - - \",IF(OR(E31=\"Oră\",E31=\"Zi\"),1,\"\"))","v":""},null,null,{"$f":"IFERROR(IF(OR($B31=Liste!$A$5,$B31=Liste!$A$6),IF($G31*$H31=0,0,$G31*$H31),IF($F31*$G31*$H31=0,0,$F31*$G31*$H31)),\"\")","v":""},{"$f":"IF(AND($E31=Liste!$B$5,$H31>20),\"Valoarea diurnei nu poate depăși 20 lei/persoană/zi!\",IF(AND($E31=Liste!$B$4,$H31>230),\"Tariful unei nopți de cazare nu poate depăși 230 lei!\",\"\"))","v":""}]
[{"$nulls":4},{"$f":"IF($B32=Liste!$A$5,Liste!$B$4,IF($B32=Liste!$A$6,Liste!$B$5,\"\"))","v":""},{"$f":"IF(OR($B32=Liste!$A$5,$B32=Liste!$A$6),\"- - - \",IF(OR(E32=\"Oră\",E32=\"Zi\"),1,\"\"))","v":""},null,null,{"$f":"IFERROR(IF(OR($B32=Liste!$A$5,$B32=Liste!$A$6),IF($G32*$H32=0,0,$G32*$H32),IF($F32*$G32*$H32=0,0,$F32*$G32*$H32)),\"\")","v":""},{"$f":"IF(AND($E32=Liste!$B$5,$H32>20),\"Valoarea diurnei nu poate depăși 20 lei/persoană/zi!\",IF(AND($E32=Liste!$B$4,$H32>230),\"Tariful unei nopți de cazare nu poate depăși 230 lei!\",\"\"))","v":""}]
[{"$nulls":4},{"$f":"IF($B33=Liste!$A$5,Liste!$B$4,IF($B33=Liste!$A$6,Liste!$B$5,\"\"))","v":""},{"$f":"IF(OR($B33=Liste!$A$5,$B33=Liste!$A$6),\"- - - \",IF(OR(E33=\"Oră\",E33=\"Zi\"),1,\"\"))","v":""},null,null,{"$f":"IFERROR(IF(OR($B33=Liste!$A$5,$B33=Liste!$A$6),IF($G33*$H33=0,0,$G33*$H33),IF($F33*$G33*$H33=0,0,$F33*$G33*$H33)),\"\")","v":""},{"$f":"IF(AND($E33=Liste!$B$5,$H33>20),\"Valoarea diurnei nu poate depăși 20 lei/persoană/zi!\",IF(AND($E33=Liste!$B$4,$H33>230),\"Tariful unei nopți de cazare nu poate depăși 230 lei!\",\"\"))","v":""}]
[{"$nulls":4},{"$f":"IF($B34=Liste!$A$5,Liste!$B$4,IF($B34=Liste!$A$6,Liste!$B$5,\"\"))","v":""},{"$f":"IF(OR($B34=Liste!$A$5,$B34=Liste!$A$6),\"- - - \",IF(OR(E34=\"Oră\",E34=\"Zi\"),1,\"\"))","v":""},null,null,{"$f":"IFERROR(IF(OR($B34=Liste!$A$5,$B34=Liste!$A$6),IF($G34*$H34=0,0,$G34*$H34),IF($F34*$G34*$H34=0,0,$F34*$G34*$H34)),\"\")","v":""},{"$f":"IF(AND($E34=Liste!$B$5,$H34>20),\"Valoarea diurnei nu poate depăși 20 lei/persoană/zi!\",IF(AND($E34=Liste!$B$4,$H34>230),\"Tariful unei nopți de cazare nu poate depăși 230 lei!\",\"\"))","v":""}]
[{"$nulls":4},{"$f":"IF($B35=Liste!$A$5,Liste!$B$4,IF($B35=Liste!$A$6,Liste!$B$5,\"\"))","v":""},{"$f":"IF(OR($B35=Liste!$A$5,$B35=Liste!$A$6),\"- - - \",IF(OR(E35=\"Oră\",E35=\"Zi\"),1,\"\"))","v":""},null,null,{"$f":"IFERROR(IF(OR($B35=Liste!$A$5,$B35=Liste!$A$6),IF($G35*$H35=0,0,$G35*$H35),IF($F35*$G35*$H35=0,0,$F35*$G35*$H35)),\"\")","v":""},{"$f":"IF(AND($E35=Liste!$B$5,$H35>20),\"Valoarea diurnei nu poate depăși 20 lei/persoană/zi!\",IF(AND($E35=Liste!$B$4,$H35>230),\"Tariful unei nopți de cazare nu poate depăși 230 lei!\",\"\"))","v":""}]
[{"$nulls":4},{"$f":"IF($B36=Liste!$A$5,Liste!$B$4,IF($B36=Liste!$A$6,Liste!$B$5,\"\"))","v":""},{"$f":"IF(OR($B36=Liste!$A$5,$B36=Liste!$A$6),\"- - - \",IF(OR(E36=\"Oră\",E36=\"Zi\"),1,\"\"))","v":""},null,null,{"$f":"IFERROR(IF(OR($B36=Liste!$A$5,$B36=Liste!$A$6),IF($G36*$H36=0,0,$G36*$H36),IF($F36*$G36*$H36=0,0,$F36*$G36*$H36)),\"\")","v":""},{"$f":"IF(AND($E36=Liste!$B$5,$H36>20),\"Valoarea diurnei nu poate depăși 20 lei/persoană/zi!\",IF(AND($E36=Liste!$B$4,$H36>230),\"Tariful unei nopți de cazare nu poate depăși 230 lei!\",\"\"))","v":""}]
[{"$nulls":4},{"$f":"IF($B37=Liste!$A$5,Liste!$B$4,IF($B37=Liste!$A$6,Liste!$B$5,\"\"))","v":""},{"$f":"IF(OR($B37=Liste!$A$5,$B37=Liste!$A$6),\"- - - \",IF(OR(E37=\"Oră\",E37=\"Zi\"),1,\"\"))","v":""},null,null,{"$f":"IFERROR(IF(OR($B37=Liste!$A$5,$B37=Liste!$A$6),IF($G37*$H37=0,0,$G37*$H37),IF($F37*$G37*$H37=0,0,$F37*$G37*$H37)),\"\")","v":""},{"$f":"IF(AND($E37=Liste!$B$5,$H37>20),\"Valoarea diurnei nu poate depăși 20 lei/persoană/zi!\",IF(AND($E37=Liste!$B$4,$H37>230),\"Tariful unei nopți de cazare nu poate depăși 230 lei!\",\"\"))","v":""}]
[{"$nulls":4},{"$f":"IF($B38=Liste!$A$5,Liste!$B$4,IF($B38=Liste!$A$6,Liste!$B$5,\"\"))","v":""},{"$f":"IF(OR($B38=Liste!$A$5,$B38=Liste!$A$6),\"- - - \",IF(OR(E38=\"Oră\",E38=\"Zi\"),1,\"\"))","v":""},null,null,{"$f":"IFERROR(IF(OR($B38=Liste!$A$5,$B38=Liste!$A$6),IF($G38*$H38=0,0,$G38*$H38),IF($F38*$G38*$H38=0,0,$F38*$G38*$H38)),\"\")","v":""},{"$f":"IF(AND($E38=Liste!$B$5,$H38>20),\"Valoarea diurnei nu poate depăși 20 lei/persoană/zi!\",IF(AND($E38=Liste!$B$4,$H38>230),\"Tariful unei nopți de cazare nu poate depăși 230 lei!\",\"\"))","v":""}]
[{"$nulls":4},{"$f":"IF($B39=Liste!$A$5,Liste!$B$4,IF($B39=Liste!$A$6,Liste!$B$5,\"\"))","v":""},{"$f":"IF(OR($B39=Liste!$A$5,$B39=Liste!$A$6),\"- - - \",IF(OR(E39=\"Oră\",E39=\"Zi\"),1,\"\"))","v":""},null,null,{"$f":"IFERROR(IF(OR($B39=Liste!$A$5,$B39=Liste!$A$6),IF($G39*$H39=0,0,$G39*$H39),IF($F39*$G39*$H39=0,0,$F39*$G39*$H39)),\"\")","v":""},{"$f":"IF(AND($E39=Liste!$B$5,$H39>20),\"Valoarea diurnei nu poate depăși 20 lei/persoană/zi!\",IF(AND($E39=Liste!$B$4,$H39>230),\"Tariful unei nopți de cazare nu poate depăși 230 lei!\",\"\"))","v":""}]
[{"$nulls":4},{"$f":"IF($B40=Liste!$A$5,Liste!$B$4,IF($B40=Liste!$A$6,Liste!$B$5,\"\"))","v":""},{"$f":"IF(OR($B40=Liste!$A$5,$B40=Liste!$A$6),\"- - - \",IF(OR(E40=\"Oră\",E40=\"Zi\"),1,\"\"))","v":""},null,null,{"$f":"IFERROR(IF(OR($B40=Liste!$A$5,$B40=Liste!$A$6),IF($G40*$H40=0,0,$G40*$H40),IF($F40*$G40*$H40=0,0,$F40*$G40*$H40)),\"\")","v":""},{"$f":"IF(AND($E40=Liste!$B$5,$H40>20),\"Valoarea diurnei nu poate depăși 20 lei/persoană/zi!\",IF(AND($E40=Liste!$B$4,$H40>230),\"Tariful unei nopți de cazare nu poate depăși 230 lei!\",\"\"))","v":""}]
[{"$nulls":4},{"$f":"IF($B41=Liste!$A$5,Liste!$B$4,IF($B41=Liste!$A$6,Liste!$B$5,\"\"))","v":""},{"$f":"IF(OR($B41=Liste!$A$5,$B41=Liste!$A$6),\"- - - \",IF(OR(E41=\"Oră\",E41=\"Zi\"),1,\"\"))","v":""},null,null,{"$f":"IFERROR(IF(OR($B41=Liste!$A$5,$B41=Liste!$A$6),IF($G41*$H41=0,0,$G41*$H41),IF($F41*$G41*$H41=0,0,$F41*$G41*$H41)),\"\")","v":""},{"$f":"IF(AND($E41=Liste!$B$5,$H41>20),\"Valoarea diurnei nu poate depăși 20 lei/persoană/zi!\",IF(AND($E41=Liste!$B$4,$H41>230),\"Tariful unei nopți de cazare nu poate depăși 230 lei!\",\"\"))","v":""}]
[{"$nulls":4},{"$f":"IF($B42=Liste!$A$5,Liste!$B$4,IF($B42=Liste!$A$6,Liste!$B$5,\"\"))","v":""},{"$f":"IF(OR($B42=Liste!$A$5,$B42=Liste!$A$6),\"- - - \",IF(OR(E42=\"Oră\",E42=\"Zi\"),1,\"\"))","v":""},null,null,{"$f":"IFERROR(IF(OR($B42=Liste!$A$5,$B42=Liste!$A$6),IF($G42*$H42=0,0,$G42*$H42),IF($F42*$G42*$H42=0,0,$F42*$G42*$H42)),\"\")","v":""},{"$f":"IF(AND($E42=Liste!$B$5,$H42>20),\"Valoarea diurnei nu poate depăși 20 lei/persoană/zi!\",IF(AND($E42=Liste!$B$4,$H42>230),\"Tariful unei nopți de cazare nu poate depăși 230 lei!\",\"\"))","v":""}]
[{"$nulls":4},{"$f":"IF($B43=Liste!$A$5,Liste!$B$4,IF($B43=Liste!$A$6,Liste!$B$5,\"\"))","v":""},{"$f":"IF(OR($B43=Liste!$A$5,$B43=Liste!$A$6),\"- - - \",IF(OR(E43=\"Oră\",E43=\"Zi\"),1,\"\"))","v":""},null,null,{"$f":"IFERROR(IF(OR($B43=Liste!$A$5,$B43=Liste!$A$6),IF($G43*$H43=0,0,$G43*$H43),IF($F43*$G43*$H43=0,0,$F43*$G43*$H43)),\"\")","v":""},{"$f":"IF(AND($E43=Liste!$B$5,$H43>20),\"Valoarea diurnei nu poate depăși 20 lei/persoană/zi!\",IF(AND($E43=Liste!$B$4,$H43>230),\"Tariful unei nopți de cazare nu poate depăși 230 lei!\",\"\"))","v":""}]
[{"$nulls":4},{"$f":"IF($B44=Liste!$A$5,Liste!$B$4,IF($B44=Liste!$A$6,Liste!$B$5,\"\"))","v":""},{"$f":"IF(OR($B44=Liste!$A$5,$B44=Liste!$A$6),\"- - - \",IF(OR(E44=\"Oră\",E44=\"Zi\"),1,\"\"))","v":""},null,null,{"$f":"IFERROR(IF(OR($B44=Liste!$A$5,$B44=Liste!$A$6),IF($G44*$H44=0,0,$G44*$H44),IF($F44*$G44*$H44=0,0,$F44*$G44*$H44)),\"\")","v":""},{"$f":"IF(AND($E44=Liste!$B$5,$H44>20),\"Valoarea diurnei nu poate depăși 20 lei/persoană/zi!\",IF(AND($E44=Liste!$B$4,$H44>230),\"Tariful unei nopți de cazare nu poate depăși 230 lei!\",\"\"))","v":""}]
[{"$nulls":4},{"$f":"IF($B45=Liste!$A$5,Liste!$B$4,IF($B45=Liste!$A$6,Liste!$B$5,\"\"))","v":""},{"$f":"IF(OR($B45=Liste!$A$5,$B45=Liste!$A$6),\"- - - \",IF(OR(E45=\"Oră\",E45=\"Zi\"),1,\"\"))","v":""},null,null,{"$f":"IFERROR(IF(OR($B45=Liste!$A$5,$B45=Liste!$A$6),IF($G45*$H45=0,0,$G45*$H45),IF($F45*$G45*$H45=0,0,$F45*$G45*$H45)),\"\")","v":""},{"$f":"IF(AND($E45=Liste!$B$5,$H45>20),\"Valoarea diurnei nu poate depăși 20 lei/persoană/zi!\",IF(AND($E45=Liste!$B$4,$H45>230),\"Tariful unei nopți de cazare nu poate depăși 230 lei!\",\"\"))","v":""}]
[{"$nulls":4},{"$f":"IF($B46=Liste!$A$5,Liste!$B$4,IF($B46=Liste!$A$6,Liste!$B$5,\"\"))","v":""},{"$f":"IF(OR($B46=Liste!$A$5,$B46=Liste!$A$6),\"- - - \",IF(OR(E46=\"Oră\",E46=\"Zi\"),1,\"\"))","v":""},null,null,{"$f":"IFERROR(IF(OR($B46=Liste!$A$5,$B46=Liste!$A$6),IF($G46*$H46=0,0,$G46*$H46),IF($F46*$G46*$H46=0,0,$F46*$G46*$H46)),\"\")","v":""},{"$f":"IF(AND($E46=Liste!$B$5,$H46>20),\"Valoarea diurnei nu poate depăși 20 lei/persoană/zi!\",IF(AND($E46=Liste!$B$4,$H46>230),\"Tariful unei nopți de cazare nu poate depăși 230 lei!\",\"\"))","v":""}]
[{"$nulls":4},{"$f":"IF($B47=Liste!$A$5,Liste!$B$4,IF($B47=Liste!$A$6,Liste!$B$5,\"\"))","v":""},{"$f":"IF(OR($B47=Liste!$A$5,$B47=Liste!$A$6),\"- - - \",IF(OR(E47=\"Oră\",E47=\"Zi\"),1,\"\"))","v":""},null,null,{"$f":"IFERROR(IF(OR($B47=Liste!$A$5,$B47=Liste!$A$6),IF($G47*$H47=0,0,$G47*$H47),IF($F47*$G47*$H47=0,0,$F47*$G47*$H47)),\"\")","v":""},{"$f":"IF(AND($E47=Liste!$B$5,$H47>20),\"Valoarea diurnei nu poate depăși 20 lei/persoană/zi!\",IF(AND($E47=Liste!$B$4,$H47>230),\"Tariful unei nopți de cazare nu poate depăși 230 lei!\",\"\"))","v":""}]

{"sheet":"2. Deplasări","index":2,"n_rows":47,"n_cols":8,"rows_kept":47,"merged":[[7,1,7,2],[8,1,8,2],[9,1,9,2],[10,1,10,2],[11,1,11,2],[12,1,12,2],[13,1,13,2],[14,1,14,2],[15,1,15,2],[16,1,16,2],[17,1,17,2],[18,1,18,2],[19,1,19,2],[20,1,20,2],[21,1,21,2],[22,1,22,2],[23,1,23,2],[24,1,24,2],[25,1,25,2],[26,1,26,2],[27,1,27,2],[28,1,28,2],[29,1,29,2],[30,1,30,2],[31,1,31,2],[32,1,32,2],[33,1,33,2],[34,1,34,2],[35,1,35,2],[36,1,36,2],[37,1,37,2],[38,1,38,2],[39,1,39,2],[40,1,40,2],[41,1,41,2],[42,1,42,2],[43,1,43,2],[44,1,44,2],[45,1,45,2],[46,1,46,2]]}
[]
[null,"2. Deplasări"]
[]
[null,"Denumirea proiectului:",{"$f":"'Informații generale'!$C$2","v":0},{"$nulls":4},"TOTAL"]
[]
[null,"Denumirea solicitantului:",{"$f":"'Informații generale'!$C$10","v":0},{"$nulls":4},{"$f":"IF(SUBTOTAL(9,H$10:H$47)=0,0,SUBTOTAL(9,H$10:H$47))","v":0}]
[]
[null,"Linia de buget\n<selectați din listă>",null,"Descrierea cheltuielii\n<completați>","Unitate de masură\n<selectați din listă>","Număr de unități\n<completați>","Cost unitar\n<completați>","Cost pe proiect\n<se calculează automat>"]
[null,1,null,2,3,4,5,"6=4x5"]
[{"$nulls":7},{"$f":"IF($F10*$G10=0,,$F10*$G10)","v":0}]
[{"$nulls":7},{"$f":"IF($F11*$G11=0,,$F11*$G11)","v":0}]
[{"$nulls":7},0]
[{"$nulls":7},0]
[{"$nulls":7},0]
[{"$nulls":7},0]
[{"$nulls":7},0]
[{"$nulls":7},0]
[{"$nulls":7},0]
[{"$nulls":7},0]
[{"$nulls":7},0]
[{"$nulls":7},0]
[{"$nulls":7},0]
[{"$nulls":7},0]
[{"$nulls":7},0]
[{"$nulls":7},0]
[{"$nulls":7},0]
[{"$nulls":7},0]
[{"$nulls":7},0]
[{"$nulls":7},0]
[{"$nulls":7},0]
[{"$nulls":7},0]
[{"$nulls":7},0]
[{"$nulls":7},0]
[{"$nulls":7},0]
[{"$nulls":7},0]
[{"$nulls":7},0]
[{"$nulls":7},0]
[{"$nulls":7},0]
[{"$nulls":7},0]
[{"$nulls":7},0]
[{"$nulls":7},0]
[{"$nulls":7},0]
[{"$nulls":7},0]
[{"$nulls":7},0]
[{"$nulls":7},0]
[{"$nulls":7},0]
[{"$nulls":7},0]

{"sheet":"3. Echipamente și bunuri","index":3,"n_rows":47,"n_cols":8,"rows_kept":47,"merged":[[1,1,1,2],[7,1,7,2],[8,1,8,2],[9,1,9,2],[10,1,10,2],[11,1,11,2],[12,1,12,2],[13,1,13,2],[14,1,14,2],[15,1,15,2],[16,1,16,2],[17,1,17,2],[18,1,18,2],[19,1,19,2],[20,1,20,2],[21,1,21,2],[22,1,22,2],[23,1,23,2],[24,1,24,2],[25,1,25,2],[26,1,26,2],[27,1,27,2],[28,1,28,2],[29,1,29,2],[30,1,30,2],[31,1,31,2],[32,1,32,2],[33,1,33,2],[34,1,34,2],[35,1,35,2],[36,1,36,2],[37,1,37,2],[38,1,38,2],[39,1,39,2],[40,1,40,2],[41,1,41,2],[42,1,42,2],[43,1,43,2],[44,1,44,2],[45,1,45,2],[46,1,46,2]]}
[]
[null,"3. Echipamente și bunuri"]
[]
[null,"Denumirea proiectului:",{"$f":"'Informații generale'!$C$2","v":0},{"$nulls":4},"TOTAL"]
[]
[null,"Denumirea solicitantului:",{"$f":"'Informații generale'!$C$10","v":0},{"$nulls":4},{"$f":"IF(SUBTOTAL(9,H$10:H$47)=0,0,SUBTOTAL(9,H$10:H$47))","v":0}]
[]
[null,"Linia de buget\n<selectați din listă>",null,"Descrierea cheltuielii\n<completați>","Unitate de masură\n<selectați din listă>","Număr de unități\n<completați>","Cost unitar\n<completați>","Cost pe proiect\n<se calculează automat>"]
[null,1,null,2,3,4,5,"6=4x5"]
[{"$nulls":7},{"$f":"IF($F10*$G10=0,,$F10*$G10)","v":0}]
[{"$nulls":7},0]
[{"$nulls":7},0]
[{"$nulls":7},0]
[{"$nulls":7},0]
[{"$nulls":7},0]
[{"$nulls":7},0]
[{"$nulls":7},0]
[{"$nulls":7},0]
[{"$nulls":7},0]
[{"$nulls":7},0]
[{"$nulls":7},0]
[{"$nulls":7},0]
[{"$nulls":7},0]
[{"$nulls":7},0]
[{"$nulls":7},0]
[{"$nulls":7},0]
[{"$nulls":7},0]
[{"$nulls":7},0]
[{"$nulls":7},0]
[{"$nulls":7},0]
[{"$nulls":7},0]
[{"$nulls":7},0]
[{"$nulls":7},0]
[{"$nulls":7},0]
[{"$nulls":7},0]
[{"$nulls":7},0]
[{"$nulls":7},0]
[{"$nulls":7},0]
[{"$nulls":7},0]
[{"$nulls":7},0]
[{"$nulls":7},0]
[{"$nulls":7},0]
[{"$nulls":7},0]
[{"$nulls":7},0]
[{"$nulls":7},0]
[{"$nulls":7},0]
[{"$nulls":7},0]

{"sheet":"4. Sediu local","index":4,"n_rows":47,"n_cols":8,"rows_kept":47,"merged":[[7,1,7,2],[8,1,8,2],[9,1,9,2],[10,1,10,2],[11,1,11,2],[12,1,12,2],[13,1,13,2],[14,1,14,2],[15,1,15,2],[16,1,16,2],[17,1,17,2],[18,1,18,2],[19,1,19,2],[20,1,20,2],[21,1,21,2],[22,1,22,2],[23,1,23,2],[24,1,24,2],[25,1,25,2],[26,1,26,2],[27,1,27,2],[28,1,28,2],[29,1,29,2],[30,1,30,2],[31,1,31,2],[32,1,32,2],[33,1,33,2],[34,1,34,2],[35,1,35,2],[36,1,36,2],[37,1,37,2],[38,1,38,2],[39,1,39,2],[40,1,40,2],[41,1,41,2],[42,1,42,2],[43,1,43,2],[44,1,44,2],[45,1,45,2],[46,1,46,2]]}
[]
[null,"4. Sediu local"]
[]
[null,"Denumirea proiectului:",{"$f":"'Informații generale'!$C$2","v":0},{"$nulls":4},"TOTAL"]
[]
[null,"Denumirea solicitantului:",{"$f":"'Informații generale'!$C$10","v":0},{"$nulls":4},{"$f":"IF(SUM($H$10:$H$47)=0,0,SUM($H$10:$H$47))","v":0}]
[]
[null,"Linia de buget\n<selectați din listă>",null,"Descrierea cheltuielii\n<completați>","Unitate de masură\n<selectați din listă>","Număr de unități\n<completați>","Cost unitar\n<completați>","Cost pe proiect\n<se calculează automat>"]
[null,1,null,2,3,4,5,"6=4x5"]
[{"$nulls":4},{"$f":"IF($B10=Liste!$G$3,Liste!$H$2,IF($B10=Liste!$G$4,Liste!$H$4,\"\"))","v":""},null,null,{"$f":"IF($F10*$G10=0,,$F10*$G10)","v":0}]
[{"$nulls":4},{"$f":"IF($B11=Liste!$G$3,Liste!$H$2,IF($B11=Liste!$G$4,Liste!$H$4,\"\"))","v":""},null,null,{"$f":"IF($F11*$G11=0,,$F11*$G11)","v":0}]
[{"$nulls":4},{"$f":"IF($B12=Liste!$G$3,Liste!$H$2,IF($B12=Liste!$G$4,Liste!$H$4,\"\"))","v":""},null,null,0]
[{"$nulls":4},{"$f":"IF($B13=Liste!$G$3,Liste!$H$2,IF($B13=Liste!$G$4,Liste!$H$4,\"\"))","v":""},null,null,0]
[{"$nulls":4},{"$f":"IF($B14=Liste!$G$3,Liste!$H$2,IF($B14=Liste!$G$4,Liste!$H$4,\"\"))","v":""},null,null,0]
[{"$nulls":4},{"$f":"IF($B15=Liste!$G$3,Liste!$H$2,IF($B15=Liste!$G$4,Liste!$H$4,\"\"))","v":""},null,null,0]
[{"$nulls":4},{"$f":"IF($B16=Liste!$G$3,Liste!$H$2,IF($B16=Liste!$G$4,Liste!$H$4,\"\"))","v":""},null,null,0]
[{"$nulls":4},{"$f":"IF($B17=Liste!$G$3,Liste!$H$2,IF($B17=Liste!$G$4,Liste!$H$4,\"\"))","v":""},null,null,0]
[{"$nulls":4},{"$f":"IF($B18=Liste!$G$3,Liste!$H$2,IF($B18=Liste!$G$4,Liste!$H$4,\"\"))","v":""},null,null,0]
[{"$nulls":4},{"$f":"IF($B19=Liste!$G$3,Liste!$H$2,IF($B19=Liste!$G$4,Liste!$H$4,\"\"))","v":""},null,null,0]
[{"$nulls":4},{"$f":"IF($B20=Liste!$G$3,Liste!$H$2,IF($B20=Liste!$G$4,Liste!$H$4,\"\"))","v":""},null,null,0]
[{"$nulls":4},{"$f":"IF($B21=Liste!$G$3,Liste!$H$2,IF($B21=Liste!$G$4,Liste!$H$4,\"\"))","v":""},null,null,0]
[{"$nulls":4},{"$f":"IF($B22=Liste!$G$3,Liste!$H$2,IF($B22=Liste!$G$4,Liste!$H$4,\"\"))","v":""},null,null,0]
[{"$nulls":4},{"$f":"IF($B23=Liste!$G$3,Liste!$H$2,IF($B23=Liste!$G$4,Liste!$H$4,\"\"))","v":""},null,null,0]
[{"$nulls":4},{"$f":"IF($B24=Liste!$G$3,Liste!$H$2,IF($B24=Liste!$G$4,Liste!$H$4,\"\"))","v":""},null,null,0]
[{"$nulls":4},{"$f":"IF($B25=Liste!$G$3,Liste!$H$2,IF($B25=Liste!$G$4,Liste!$H$4,\"\"))","v":""},null,null,0]
[{"$nulls":4},{"$f":"IF($B26=Liste!$G$3,Liste!$H$2,IF($B26=Liste!$G$4,Liste!$H$4,\"\"))","v":""},null,null,0]
[{"$nulls":4},{"$f":"IF($B27=Liste!$G$3,Liste!$H$2,IF($B27=Liste!$G$4,Liste!$H$4,\"\"))","v":""},null,null,0]
[{"$nulls":4},{"$f":"IF($B28=Liste!$G$3,Liste!$H$2,IF($B28=Liste!$G$4,Liste!$H$4,\"\"))","v":""},null,null,0]
[{"$nulls":4},{"$f":"IF($B29=Liste!$G$3,Liste!$H$2,IF($B29=Liste!$G$4,Liste!$H$4,\"\"))","v":""},null,null,0]
[{"$nulls":4},{"$f":"IF($B30=Liste!$G$3,Liste!$H$2,IF($B30=Liste!$G$4,Liste!$H$4,\"\"))","v":""},null,null,0]
[{"$nulls":4},{"$f":"IF($B31=Liste!$G$3,Liste!$H$2,IF($B31=Liste!$G$4,Liste!$H$4,\"\"))","v":""},null,null,0]
[{"$nulls":4},{"$f":"IF($B32=Liste!$G$3,Liste!$H$2,IF($B32=Liste!$G$4,Liste!$H$4,\"\"))","v":""},null,null,0]
[{"$nulls":4},{"$f":"IF($B33=Liste!$G$3,Liste!$H$2,IF($B33=Liste!$G$4,Liste!$H$4,\"\"))","v":""},null,null,0]
[{"$nulls":4},{"$f":"IF($B34=Liste!$G$3,Liste!$H$2,IF($B34=Liste!$G$4,Liste!$H$4,\"\"))","v":""},null,null,0]
[{"$nulls":4},{"$f":"IF($B35=Liste!$G$3,Liste!$H$2,IF($B35=Liste!$G$4,Liste!$H$4,\"\"))","v":""},null,null,0]
[{"$nulls":4},{"$f":"IF($B36=Liste!$G$3,Liste!$H$2,IF($B36=Liste!$G$4,Liste!$H$4,\"\"))","v":""},null,null,0]
[{"$nulls":4},{"$f":"IF($B37=Liste!$G$3,Liste!$H$2,IF($B37=Liste!$G$4,Liste!$H$4,\"\"))","v":""},null,null,0]
[{"$nulls":4},{"$f":"IF($B38=Liste!$G$3,Liste!$H$2,IF($B38=Liste!$G$4,Liste!$H$4,\"\"))","v":""},null,null,0]
[{"$nulls":4},{"$f":"IF($B39=Liste!$G$3,Liste!$H$2,IF($B39=Liste!$G$4,Liste!$H$4,\"\"))","v":""},null,null,0]
[{"$nulls":4},{"$f":"IF($B40=Liste!$G$3,Liste!$H$2,IF($B40=Liste!$G$4,Liste!$H$4,\"\"))","v":""},null,null,0]
[{"$nulls":4},{"$f":"IF($B41=Liste!$G$3,Liste!$H$2,IF($B41=Liste!$G$4,Liste!$H$4,\"\"))","v":""},null,null,0]
[{"$nulls":4},{"$f":"IF($B42=Liste!$G$3,Liste!$H$2,IF($B42=Liste!$G$4,Liste!$H$4,\"\"))","v":""},null,null,0]
[{"$nulls":4},{"$f":"IF($B43=Liste!$G$3,Liste!$H$2,IF($B43=Liste!$G$4,Liste!$H$4,\"\"))","v":""},null,null,0]
[{"$nulls":4},{"$f":"IF($B44=Liste!$G$3,Liste!$H$2,IF($B44=Liste!$G$4,Liste!$H$4,\"\"))","v":""},null,null,0]
[{"$nulls":4},{"$f":"IF($B45=Liste!$G$3,Liste!$H$2,IF($B45=Liste!$G$4,Liste!$H$4,\"\"))","v":""},null,null,0]
[{"$nulls":4},{"$f":"IF($B46=Liste!$G$3,Liste!$H$2,IF($B46=Liste!$G$4,Liste!$H$4,\"\"))","v":""},null,null,0]
[{"$nulls":4},{"$f":"IF($B47=Liste!$G$3,Liste!$H$2,IF($B47=Liste!$G$4,Liste!$H$4,\"\"))","v":""},null,null,0]

{"sheet":"5. Alte costuri, servicii","index":5,"n_rows":47,"n_cols":8,"rows_kept":47,"merged":[[7,1,7,2],[8,1,8,2],[9,1,9,2],[10,1,10,2],[11,1,11,2],[12,1,12,2],[13,1,13,2],[14,1,14,2],[15,1,15,2],[16,1,16,2],[17,1,17,2],[18,1,18,2],[19,1,19,2],[20,1,20,2],[21,1,21,2],[22,1,22,2],[23,1,23,2],[24,1,24,2],[25,1,25,2],[26,1,26,2],[27,1,27,2],[28,1,28,2],[29,1,29,2],[30,1,30,2],[31,1,31,2],[32,1,32,2],[33,1,33,2],[34,1,34,2],[35,1,35,2],[36,1,36,2],[37,1,37,2],[38,1,38,2],[39,1,39,2],[40,1,40,2],[41,1,41,2],[42,1,42,2],[43,1,43,2],[44,1,44,2],[45,1,45,2],[46,1,46,2]]}
[]
[null,"5. Alte costuri, servicii"]
[]
[null,"Denumirea proiectului:",{"$f":"'Informații generale'!$C$2","v":0},{"$nulls":4},"TOTAL"]
[]
[null,"Denumirea solicitantului:",{"$f":"'Informații generale'!$C$10","v":0},{"$nulls":4},{"$f":"IF(SUBTOTAL(9,H$10:H$47)=0,0,SUBTOTAL(9,H$10:H$47))","v":0}]
[]
[null,"Linia de buget\n<selectați din listă>",null,"Descrierea cheltuielii\n<completați>","Unitate de masură\n<selectați din listă>","Număr de unități\n<completați>","Cost unitar\n<completați>","Cost pe proiect\n<se calculează automat>"]
[null,1,null,2,3,4,5,"6=4x5"]
[{"$nulls":7},{"$f":"IF($F10*$G10=0,,$F10*$G10)","v":0}]
[{"$nulls":7},{"$f":"IF($F11*$G11=0,,$F11*$G11)","v":0}]
[{"$nulls":7},0]
[{"$nulls":7},0]
[{"$nulls":7},0]
[{"$nulls":7},0]
[{"$nulls":7},0]
[{"$nulls":7},0]
[{"$nulls":7},0]
[{"$nulls":7},0]
[{"$nulls":7},0]
[{"$nulls":7},0]
[{"$nulls":7},0]
[{"$nulls":7},0]
[{"$nulls":7},0]
[{"$nulls":7},0]
[{"$nulls":7},0]
[{"$nulls":7},0]
[{"$nulls":7},0]
[{"$nulls":7},0]
[{"$nulls":7},0]
[{"$nulls":7},0]
[{"$nulls":7},0]
[{"$nulls":7},0]
[{"$nulls":7},0]
[{"$nulls":7},0]
[{"$nulls":7},0]
[{"$nulls":7},0]
[{"$nulls":7},0]
[{"$nulls":7},0]
[{"$nulls":7},0]
[{"$nulls":7},0]
[{"$nulls":7},0]
[{"$nulls":7},0]
[{"$nulls":7},0]
[{"$nulls":7},0]
[{"$nulls":7},0]
[{"$nulls":7},0]

{"sheet":"Bugetul proiectului","index":6,"n_rows":42,"n_cols":4,"rows_kept":42,"merged":[[7,1,7,2],[8,1,8,2],[9,1,9,2],[10,1,10,2],[11,1,11,2],[12,1,12,2],[13,1,13,2],[14,1,14,2],[15,1,15,2],[16,1,16,2],[17,1,17,2],[18,1,18,2],[19,1,19,2],[20,1,20,2],[21,1,21,2],[22,1,22,2],[23,1,23,2],[24,1,24,2],[25,1,25,2],[26,1,26,2],[27,1,27,2],[28,1,28,2],[29,1,29,2],[30,1,30,2],[31,1,31,2],[32,1,32,2],[33,1,33,2],[34,1,34,2],[35,1,35,2],[36,1,36,2],[37,1,37,2],[38,1,38,2],[39,1,39,2],[40,1,40,2],[41,1,41,2]]}
[]
[null,"Bugetul proiectului"]
[]
[null,"Denumirea proiectului:",{"$f":"'Informații generale'!$C$2","v":0}]
[]
[null,"Denumirea solicitantului:",{"$f":"'Informații generale'!$C$10","v":0}]
[]
[null,"Capitole de buget\nSubcapitole de buget",null,"Cost total proiect\n<se calculează automat>"]
[null,1,null,2]
[null,"A. TOTAL CHELTUIELI DIRECTE",null,{"$f":"D13+D19+D23+D27+D32","v":{"v":0,"d":"0.00"}}]
[null,{"$f":"\"6. Costuri administrative. Maximum \"&Liste!O8*100&\"%\"&\" din totalul costurilor directe.\"","v":"6. Costuri administrative. Maximum 7% din totalul costurilor directe."}]
[null,"B. TOTAL CHELTUIELI ELIGIBILE PROIECT",null,{"$f":"D10+D11","v":{"v":0,"d":"0.00"}}]
[null,"1. Resurse umane",null,{"$f":"SUM(D14:D18)","v":{"v":0,"d":"0.00"}}]
[null,{"$f":"Liste!A2","v":"1.1. Salarii (echipă de implementare)/contract muncă, maxim 20% din totalul finanțării nerambursabile acordate"},null,{"$f":"SUMIF('1. Resurse umane'!$B$10:$B$3009,$B14,'1. Resurse umane'!I$10:I$3009)","v":{"v":0,"d":"0.00"}}]
[null,{"$f":"Liste!A3","v":"1.2. Retribuții persoane atrase/contracte civile"},null,{"$f":"SUMIF('1. Resurse umane'!$B$10:$B$3009,$B15,'1. Resurse umane'!I$10:I$3009)","v":{"v":0,"d":"0.00"}}]
[null,{"$f":"Liste!A4","v":"1.3. Contribuții angajator"},null,{"$f":"SUMIF('1. Resurse umane'!$B$10:$B$3009,$B16,'1. Resurse umane'!I$10:I$3009)","v":{"v":0,"d":"0.00"}}]
[null,{"$f":"Liste!A5","v":"1.4. Cazare"},null,{"$f":"SUMIF('1. Resurse umane'!$B$10:$B$3009,$B17,'1. Resurse umane'!I$10:I$3009)","v":{"v":0,"d":"0.00"}}]
[null,{"$f":"Liste!A6","v":"1.5. Diurnă"},null,{"$f":"SUMIF('1. Resurse umane'!$B$10:$B$3009,$B18,'1. Resurse umane'!I$10:I$3009)","v":{"v":0,"d":"0.00"}}]
[null,"2. Deplasări",null,{"$f":"SUM(D20:D22)","v":{"v":0,"d":"0.00"}}]
[null,{"$f":"Liste!C2","v":"2.1. Transport în interiorul județului"},null,{"$f":"SUMIF('2. Deplasări'!$B$10:$B$3009,$B20,'2. Deplasări'!H$10:H$3009)","v":{"v":0,"d":"0.00"}}]
[null,{"$f":"Liste!C3","v":"2.2. Transport în afara județului"},null,{"$f":"SUMIF('2. Deplasări'!$B$10:$B$3009,$B21,'2. Deplasări'!H$10:H$3009)","v":{"v":0,"d":"0.00"}}]
[null,{"$f":"Liste!C4","v":"2.3. Cheltuieli de deplasare cu participanții la seminarii/conferințe"},null,{"$f":"SUMIF('2. Deplasări'!$B$10:$B$3009,$B22,'2. Deplasări'!H$10:H$3009)","v":{"v":0,"d":"0.00"}}]
[null,"3. Echipamente și bunuri",null,{"$f":"SUM(D24:D26)","v":{"v":0,"d":"0.00"}}]
[null,{"$f":"Liste!E2","v":"3.1. Echipamente, aparatură și bunuri specifice activtăților proiectului"},null,{"$f":"SUMIF('3. Echipamente și bunuri'!$B$10:$B$3009,$B24,'3. Echipamente și bunuri'!H$10:H$3009)","v":{"v":0,"d":"0.00"}}]
[null,{"$f":"Liste!E3","v":"3.2. Alte echipamente, aparatură (computer/laptop, imprimantă, videoproiector, etc.) - a se specifica. Maximum 20% din totalul finanțării nerambursabile acordate"},null,{"$f":"SUMIF('3. Echipamente și bunuri'!$B$10:$B$3009,$B25,'3. Echipamente și bunuri'!H$10:H$3009)","v":{"v":0,"d":"0.00"}}]
[null,{"$f":"Liste!E4","v":"3.3. Chirie aparatură"},null,{"$f":"SUMIF('3. Echipamente și bunuri'!$B$10:$B$3009,$B26,'3. Echipamente și bunuri'!H$10:H$3009)","v":{"v":0,"d":"0.00"}}]
[null,"4. Sediu local",null,{"$f":"SUM(D28:D31)","v":{"v":0,"d":"0.00"}}]
[null,{"$f":"Liste!G2","v":"4.1. Chiria pentru spațiul alocat acțiunii (include toate utilitățile aferente spațiului)"},null,{"$f":"SUMIF('4. Sediu local'!$B$10:$B$3009,$B28,'4. Sediu local'!H$10:H$3009)","v":{"v":0,"d":"0.00"}}]
[null,{"$f":"Liste!G3","v":"4.2. Consumabile - bunuri de birou (vă rugăm specificați). Împreună cu <Rechizite> = maximum 10% din totalul finanțării nerambursabile acordate"},null,{"$f":"SUMIF('4. Sediu local'!$B$10:$B$3009,$B29,'4. Sediu local'!H$10:H$3009)","v":{"v":0,"d":"0.00"}}]
[null,{"$f":"Liste!G4","v":"4.3. Rechizite (ex.: agrafe, hârtie, post-it, creioane, pixuri, radiere, ș.a.). Împreună cu <Consumabile - bunuri de birou> = maximum 10% din total finanțare nerambursabilă acordată"},null,{"$f":"SUMIF('4. Sediu local'!$B$10:$B$3009,$B30,'4. Sediu local'!H$10:H$3009)","v":{"v":0,"d":"0.00"}}]
[null,{"$f":"Liste!G5","v":"4.4. Alte costuri, servicii (tel/fax, curier)"},null,{"$f":"SUMIF('4. Sediu local'!$B$10:$B$3009,$B31,'4. Sediu local'!H$10:H$3009)","v":{"v":0,"d":"0.00"}}]
[null,"5. Alte costuri, servicii",null,{"$f":"SUM(D33:D42)","v":{"v":0,"d":"0.00"}}]
[null,{"$f":"Liste!I2","v":"5.1. Publicații"},null,{"$f":"SUMIF('5. Alte costuri, servicii'!$B$10:$B$3009,$B33,'5. Alte costuri, servicii'!H$10:H$3009)","v":{"v":0,"d":"0.00"}}]
[null,{"$f":"Liste!I3","v":"5.2. Studii, cercetări"},null,{"$f":"SUMIF('5. Alte costuri, servicii'!$B$10:$B$3009,$B34,'5. Alte costuri, servicii'!H$10:H$3009)","v":{"v":0,"d":"0.00"}}]
[null,{"$f":"Liste!I4","v":"5.3. Traduceri, interpretariat"},null,{"$f":"SUMIF('5. Alte costuri, servicii'!$B$10:$B$3009,$B35,'5. Alte costuri, servicii'!H$10:H$3009)","v":{"v":0,"d":"0.00"}}]
[null,{"$f":"Liste!I5","v":"5.4. Costuri pentru conferințe/seminarii"},null,{"$f":"SUMIF('5. Alte costuri, servicii'!$B$10:$B$3009,$B36,'5. Alte costuri, servicii'!H$10:H$3009)","v":{"v":0,"d":"0.00"}}]
[null,{"$f":"Liste!I6","v":"5.5. Promovare și vizibilitate proiect (materiale și acțiuni promoționale și de publicitate). Minimum 3% din totalul finanțării nerambursabile acordate"},null,{"$f":"SUMIF('5. Alte costuri, servicii'!$B$10:$B$3009,$B37,'5. Alte costuri, servicii'!H$10:H$3009)","v":{"v":0,"d":"0.00"}}]
[null,{"$f":"Liste!I7","v":"5.6. Servicii de transport persoane (închiriere mijloace de transport)"},null,{"$f":"SUMIF('5. Alte costuri, servicii'!$B$10:$B$3009,$B38,'5. Alte costuri, servicii'!H$10:H$3009)","v":{"v":0,"d":"0.00"}}]
[null,{"$f":"Liste!I8","v":"5.7. Fond de premiere pentru participanți"},null,{"$f":"SUMIF('5. Alte costuri, servicii'!$B$10:$B$3009,$B39,'5. Alte costuri, servicii'!H$10:H$3009)","v":{"v":0,"d":"0.00"}}]
[null,{"$f":"Liste!I9","v":"5.8. Contracte prestări servicii, altele decât cele de închiriere"},null,{"$f":"SUMIF('5. Alte costuri, servicii'!$B$10:$B$3009,$B40,'5. Alte costuri, servicii'!H$10:H$3009)","v":{"v":0,"d":"0.00"}}]
[null,{"$f":"Liste!I10","v":"5.9. Masă"},null,{"$f":"SUMIF('5. Alte costuri, servicii'!$B$10:$B$3009,$B41,'5. Alte costuri, servicii'!H$10:H$3009)","v":{"v":0,"d":"0.00"}}]
[null,{"$f":"Liste!I11","v":"5.10. Alte costuri (vă rugăm specificați)"},null,{"$f":"SUMIF('5. Alte costuri, servicii'!$B$10:$B$3009,$B42,'5. Alte costuri, servicii'!H$10:H$3009)","v":{"v":0,"d":"0.00"}}]

{"sheet":"Sursele de finanțare","index":7,"n_rows":20,"n_cols":5,"rows_kept":20,"merged":[[1,1,1,2],[3,2,3,3],[4,2,5,3],[7,1,7,2],[8,1,8,2],[10,1,10,2],[11,1,11,2],[13,1,13,4],[15,1,15,4],[16,1,16,4]]}
[]
[null,"Sursele de finanțare"]
[]
[null,"Denumirea proiectului:",{"$f":"'Informații generale'!$C$2","v":0}]
[null,null,{"$f":"'Informații generale'!$C$10","v":0}]
[null,"Denumirea solicitantului:"]
[]
[null,"Sursa de finanțare",null,"Suma\n<se calculează automat>","% din total cheltuieli eligibile proiect\n<completați>"]
[null,1,null,2,3]
[null,"1. Finanțarea Consiliul Județean Bacău",{"$f":"IF($D$10>100000,\"nu poate depăși 50.000 LEI !\",IF(AND($D$10>0,$D$12-$D$11<10000),\"nu poate fi mai mică de 10.000 LEI !\",\"\"))","v":""},{"$f":"'Bugetul proiectului'!$D$12*$E$10","v":{"v":0,"d":"0.00"}}]
[null,"2. Contribuție solicitant",null,{"$f":"'Bugetul proiectului'!$D$12*$E$11","v":{"v":0,"d":"0.00"}}]
[null,"B. TOTAL CHELTUIELI ELIGIBILE PROIECT",null,{"$f":"'Bugetul proiectului'!$D$12","v":{"v":0,"d":"0.00"}},{"$f":"$E$10+$E$11","v":{"v":0,"d":"0.00%"}}]
[]
[null,"Nota: Finanțarea nerambursabilă trebuie însoțită de o contribuție, din partea beneficiarului, de minim 10% din valoarea totală a finanțării, algoritm aplicabil fiecărei tranșe decontate."]
[]
[null,{"$f":"IF(AND($E$10>0.9,0<$E$11,$E$11<0.1,$E$12<>0,$E$12<>1),\"EROARE !!!\",IF(AND($E$10>0,$E$11>0,$E$11<0.1,$E$12<>0,$E$12<>1),\"EROARE !!!\",IF(AND($E$10>0.9,0<$E$11,$E$11<0.1),\"EROARE !!!\",IF(AND($E$10>0.9,$E$11>0,$E$12<>0,$E$12<>1),\"EROARE !!!\",IF($E$10>0.9,\"EROARE !!!\",IF(AND($E$11>0,$E$11<0.1),\"EROARE !!!\",IF(AND($E$10>0,$E$11>0,$E$12<>0,$E$12<>1),\"EROARE !!!\",0)))))))","v":0}]
[null,{"$f":"IF(AND($E$10>0.9,0<$E$11,$E$11<0.1,$E$12<>0,$E$12<>1),$B$18&\", nici c\"&$B$19&\", iar c\"&$B$20&\"!\",IF(AND($E$10>0,$E$11>0,$E$11<0.1,$E$12<>0,$E$12<>1),\"C\"&$B$19&\", iar c\"&$B$20&\"!\",IF(AND($E$10>0.9,0<$E$11,$E$11<0.1),$B$18&\", nici c\"&$B$19&\"!\",IF(AND($E$10>0.9,$E$11>0,$E$12<>0,$E$12<>1),$B$18&\", iar c\"&$B$20&\"!\",IF($E$10>0.9,$B$18&\"!\",IF(AND($E$11>0,$E$11<0.1),\"C\"&$B$19&\"!\",IF(AND($E$10>0,$E$11>0,$E$12<>0,$E$12<>1),\"C\"&$B$20&\"!\",0)))))))","v":0}]
[null,"Finanțarea oferită de Consiliul Județean Bacău nu poate depăși 90% din totalul cheltuielilor eligibile ale proiectului"]
[null,{"$f":"\"ontribuția solicitantului nu poate fi mai mică decât 10% din totalul cheltuielilor eligibile ale proiectului\"","v":"ontribuția solicitantului nu poate fi mai mică decât 10% din totalul cheltuielilor eligibile ale proiectului"}]
[null,{"$f":"\"ele două tipuri de finanțări trebuie să însumeze 100% din totalul cheltuielilor eligibile ale proiectului\"","v":"ele două tipuri de finanțări trebuie să însumeze 100% din totalul cheltuielilor eligibile ale proiectului"}]

{"sheet":"Verificare limitări","index":8,"n_rows":15,"n_cols":7,"rows_kept":15,"merged":[[3,2,3,3],[4,2,5,3],[7,1,7,2],[8,1,8,2],[9,1,9,2],[10,1,10,2],[11,1,11,2],[12,1,12,2],[13,1,13,2],[14,1,14,2]]}
[]
[null,"Verificare limitări impuse de ghid"]
[]
[null,"Denumirea proiectului:",{"$f":"'Informații generale'!$C$2","v":0}]
[null,null,{"$f":"'Informații generale'!$C$10","v":0}]
[null,"Denumirea solicitantului:"]
[]
[null,"Parametrul",null,"Explicații","Suma bugetată/solicitată","Baza de calcul","Pondere"]
[null,1,null,2,3,4,5]
[null,"1.1. Salarii (echipă de implementare)/contract muncă",null,{"$f":"\"Maxim \"&Liste!$O$5*100&\"% din totalul finanțării nerambursabile acordate\"","v":"Maxim 20% din totalul finanțării nerambursabile acordate"},{"$f":"'Bugetul proiectului'!$D$14","v":{"v":0,"d":"0.00"}},{"$f":"IF(E10=0,0,'Sursele de finanțare'!$D$10)","v":{"v":0,"d":"0.00"}},{"$f":"IFERROR(IF(E10=0,0,IF((E10/F10)>Liste!O5,\"Nu v-ați încadrat în limitarea impusă. Vă rugăm să corectați bugetul.\",\"\")),0)","v":{"v":0,"d":"0.00%"}}]
[null,"3.2. Alte echipamente, aparatură (computer/laptop, imprimantă, videoproiector, etc.) - a se specifica",null,{"$f":"\"Maxim \"&Liste!$O$6*100&\"% din totalul finanțării nerambursabile acordate\"","v":"Maxim 20% din totalul finanțării nerambursabile acordate"},{"$f":"'Bugetul proiectului'!$D$25","v":{"v":0,"d":"0.00"}},{"$f":"IF(E11=0,0,'Sursele de finanțare'!$D$10)","v":{"v":0,"d":"0.00"}},{"$f":"IFERROR(IF(E11=0,0,IF((E11/F11)>Liste!O6,\"Nu v-ați încadrat în limitarea impusă. Vă rugăm să corectați bugetul.\",\"\")),0)","v":{"v":0,"d":"0.00%"}}]
[null,"4.2. Consumabile - bunuri de birou (vă rugăm specificați)\n                                         +\n4.3. Rechizite (ex.: agrafe, hârtie, post-it, creioane, pixuri, radiere, ș.a.)",null,{"$f":"\"Maxim \"&Liste!$O$7*100&\"% din totalul finanțării nerambursabile acordate\"","v":"Maxim 10% din totalul finanțării nerambursabile acordate"},{"$f":"'Bugetul proiectului'!$D$29+'Bugetul proiectului'!$D$30","v":{"v":0,"d":"0.00"}},{"$f":"IF(E12=0,0,'Sursele de finanțare'!$D$10)","v":{"v":0,"d":"0.00"}},{"$f":"IFERROR(IF(E12=0,0,IF((E12/F12)>Liste!O7,\"Nu v-ați încadrat în limitarea impusă. Vă rugăm să corectați bugetul.\",\"\")),0)","v":{"v":0,"d":"0.00%"}}]
[null,"6. Costuri administrative",null,{"$f":"\"Maxim \"&Liste!$O$8*100&\"% din totalul finanțării nerambursabile acordate\"","v":"Maxim 7% din totalul finanțării nerambursabile acordate"},{"$f":"'Bugetul proiectului'!$D$11","v":{"v":0,"d":"0.00"}},{"$f":"IF(E13=0,0,'Sursele de finanțare'!$D$10)","v":{"v":0,"d":"0.00"}},{"$f":"IFERROR(IF(E13=0,0,IF((E13/F13)>Liste!O8,\"Nu v-ați încadrat în limitarea impusă. Vă rugăm să corectați bugetul.\",\"\")),0)","v":{"v":0,"d":"0.00%"}}]
[null,"Finanțare Consiliul Județean Bacău",null,{"$f":"\"Minimum \"&Liste!L9&\" LEI și maximum \"&Liste!N9&\" LEI sau \"&Liste!O9*100&\"%\"&\" din total cheltuieli eligibile ale proiectului\"","v":"Minimum 10.000 LEI și maximum 50.000 LEI sau 90% din total cheltuieli eligibile ale proiectului"},{"$f":"'Sursele de finanțare'!$D$10","v":{"v":0,"d":"0.00"}},{"$f":"IF(E14=0,0,'Sursele de finanțare'!$D$12)","v":{"v":0,"d":"0.00"}},{"$f":"IFERROR(IF(E14=0,0,IF(OR(E14<VALUE(Liste!L9),E14>VALUE(Liste!N9),(E14/F14)>VALUE(Liste!O9)),\"Nu v-ați încadrat în limitarea impusă. Vă rugăm să corectați bugetul.\",\"\")),0)","v":{"v":0,"d":"0.00%"}}]
[null,{"$f":"\"5.5. Promovare și vizibilitate proiect (materiale și acțiuni promoționale și de publicitate). Minim \"&Liste!M11*100&\"% din total costuri directe eligibile\"","v":"5.5. Promovare și vizibilitate proiect (materiale și acțiuni promoționale și de publicitate). Minim 3% din total costuri directe eligibile"},null,{"$f":"\"Minimum \"&Liste!M11*100&\"%\"&\" din totalul finanțării nerambursabile acordate\"","v":"Minimum 3% din totalul finanțării nerambursabile acordate"},{"$f":"'Bugetul proiectului'!$D$37","v":{"v":0,"d":"0.00"}},{"$f":"IF(E15=0,0,'Sursele de finanțare'!$D$10)","v":{"v":0,"d":"0.00"}},{"$f":"IFERROR(IF(E15=0,\"Nu e permis să nu aveți costuri!\",IF((E15/F15)<Liste!M11,\"Nu v-ați încadrat în limitarea impusă. Vă rugăm să corectați bugetul.\",\"\")),0)","v":"Nu e permis să nu aveți costuri!"}]

{"sheet":"Liste","index":9,"n_rows":11,"n_cols":15,"rows_kept":11,"hidden":true,"merged":[[0,10,0,14],[1,10,3,10],[1,11,1,14],[2,11,2,12],[2,13,2,14]]}
["Resurse umane - Linia de buget","Resurse umane - Unitate de măsură","Deplasări - Linia de buget","Deplasări - Unitate de măsură","Echipamente și bunuri - Linia de buget","Echipamente și bunuri - Unitate de măsură","Sediu local","Sediu local - Unitate de măsură","Alte costuri, servicii - Linia de buget","Alte costuri, servicii - Unitate de măsură","Limitări"]
[{"$f":"\"1.1. Salarii (echipă de implementare)/contract muncă, maxim \"&$O$5*100&\"% din totalul finanțării nerambursabile acordate\"","v":"1.1. Salarii (echipă de implementare)/contract muncă, maxim 20% din totalul finanțării nerambursabile acordate"},"Lună","2.1. Transport în interiorul județului","Proiect","3.1. Echipamente, aparatură și bunuri specifice activtăților proiectului","Buc.","4.1. Chiria pentru spațiul alocat acțiunii (include toate utilitățile aferente spațiului)","Buc.","5.1. Publicații","Buc.","- Parametrul -","- Valoarea -"]
["1.2. Retribuții persoane atrase/contracte civile","Oră","2.2. Transport în afara județului",null,{"$f":"\"3.2. Alte echipamente, aparatură (computer/laptop, imprimantă, videoproiector, etc.) - a se specifica. Maximum \"&$O$6*100&\"% din totalul finanțării nerambursabile acordate\"","v":"3.2. Alte echipamente, aparatură (computer/laptop, imprimantă, videoproiector, etc.) - a se specifica. Maximum 20% din totalul finanțării nerambursabile acordate"},"Lună",{"$f":"\"4.2. Consumabile - bunuri de birou (vă rugăm specificați). Împreună cu <Rechizite> = maximum \"&$O$7*100&\"% din totalul finanțării nerambursabile acordate\"","v":"4.2. Consumabile - bunuri de birou (vă rugăm specificați). Împreună cu <Rechizite> = maximum 10% din totalul finanțării nerambursabile acordate"},"Lună","5.2. Studii, cercetări","Lună",null,"- Minim -",null,"- Maxim -"]
["1.3. Contribuții angajator","Noapte","2.3. Cheltuieli de deplasare cu participanții la seminarii/conferințe",null,"3.3. Chirie aparatură",null,{"$f":"\"4.3. Rechizite (ex.: agrafe, hârtie, post-it, creioane, pixuri, radiere, ș.a.). Împreună cu <Consumabile - bunuri de birou> = maximum \"&$O$7*100&\"% din total finanțare nerambursabilă acordată\"","v":"4.3. Rechizite (ex.: agrafe, hârtie, post-it, creioane, pixuri, radiere, ș.a.). Împreună cu <Consumabile - bunuri de birou> = maximum 10% din total finanțare nerambursabilă acordată"},"Proiect","5.3. Traduceri, interpretariat","Persoană",null,"LEI","%","LEI","%"]
["1.4. Cazare","Zi",{"$nulls":4},"4.4. Alte costuri, servicii (tel/fax, curier)",null,"5.4. Costuri pentru conferințe/seminarii","Zi",{"$f":"\"1.1. Salarii (echipă de implementare)/contract muncă, maxim \"&$O$5*100&\"% din totalul finanțării nerambursabile acordate\"","v":"1.1. Salarii (echipă de implementare)/contract muncă, maxim 20% din totalul finanțării nerambursabile acordate"},{"$nulls":3},{"v":0.2,"d":"20%"}]
["1.5. Diurnă",{"$nulls":7},{"$f":"\"5.5. Promovare și vizibilitate proiect (materiale și acțiuni promoționale și de publicitate). Minimum \"&$M$11*100&\"% din totalul finanțării nerambursabile acordate\"","v":"5.5. Promovare și vizibilitate proiect (materiale și acțiuni promoționale și de publicitate). Minimum 3% din totalul finanțării nerambursabile acordate"},null,"3.2. Alte echipamente, aparatură (computer, imprimantă, videoproiector, etc.) - a se specifica.",{"$nulls":3},{"v":0.2,"d":"20%"}]
[{"$nulls":8},"5.6. Servicii de transport persoane (închiriere mijloace de transport)",null,"4.2. Consumabile - bunuri de birou (vă rugăm specificați) + Rechizite (ex.: agrafe, hârtie, post-it, creioane, pixuri, radiere, ș.a.)",{"$nulls":3},{"v":0.1,"d":"10%"}]
[{"$nulls":8},"5.7. Fond de premiere pentru participanți",null,"Cheltuieli administrative",{"$nulls":3},{"v":0.07,"d":"7%"}]
[{"$nulls":8},"5.8. Contracte prestări servicii, altele decât cele de închiriere",null,"Finanțarea Consiliului Județean Bacău","10.000",null,"50.000",{"v":0.9,"d":"90%"}]
[{"$nulls":8},"5.9. Masă",null,"Cheltuielile prevăzute pentru masă, diurnă, cheltuieli de personal și administrative, cumulat",{"$nulls":3},{"v":0.2,"d":"20%"}]
[{"$nulls":8},"5.10. Alte costuri (vă rugăm specificați)",null,"5.5. Acțiuni de promovare și vizibilitate a proiectului (acțiuni promoționale și de publicitate)",null,{"v":0.03,"d":"3%"}]